BEGIN:VCALENDAR
VERSION:2.0
PRODID:-//ourcenter - ECPv6.15.19//NONSGML v1.0//EN
CALSCALE:GREGORIAN
METHOD:PUBLISH
X-WR-CALNAME:ourcenter
X-ORIGINAL-URL:https://ourcenterreno.org
X-WR-CALDESC:Events for ourcenter
REFRESH-INTERVAL;VALUE=DURATION:PT1H
X-Robots-Tag:noindex
X-PUBLISHED-TTL:PT1H
BEGIN:VTIMEZONE
TZID:America/Los_Angeles
BEGIN:DAYLIGHT
TZOFFSETFROM:-0800
TZOFFSETTO:-0700
TZNAME:PDT
DTSTART:20250309T100000
END:DAYLIGHT
BEGIN:STANDARD
TZOFFSETFROM:-0700
TZOFFSETTO:-0800
TZNAME:PST
DTSTART:20251102T090000
END:STANDARD
BEGIN:DAYLIGHT
TZOFFSETFROM:-0800
TZOFFSETTO:-0700
TZNAME:PDT
DTSTART:20260308T100000
END:DAYLIGHT
BEGIN:STANDARD
TZOFFSETFROM:-0700
TZOFFSETTO:-0800
TZNAME:PST
DTSTART:20261101T090000
END:STANDARD
BEGIN:DAYLIGHT
TZOFFSETFROM:-0800
TZOFFSETTO:-0700
TZNAME:PDT
DTSTART:20270314T100000
END:DAYLIGHT
BEGIN:STANDARD
TZOFFSETFROM:-0700
TZOFFSETTO:-0800
TZNAME:PST
DTSTART:20271107T090000
END:STANDARD
END:VTIMEZONE
BEGIN:VEVENT
DTSTART;TZID=America/Los_Angeles:20260417T133000
DTEND;TZID=America/Los_Angeles:20260417T143000
DTSTAMP:20260423T015336
CREATED:20260206T134906Z
LAST-MODIFIED:20260206T135425Z
UID:10043486-1776432600-1776436200@ourcenterreno.org
SUMMARY:New coffee hour for GNC & Non Binary siblings to connect
DESCRIPTION:A new weekly space for GNC & Non-Binary siblings to connect. \nHosted by Non-Binary NV at Our Center\, this weekly coffee hour is a dedicated space for the Gender Non-Conforming and Non-Binary community. Come grab a cup\, pull up a chair\, and meet your local siblings in a supportive\, relaxed environment. \nWhen: Every Friday \nTime: 1:30 PM – 2:30 PM \nLocation: Our Center \nThis is a casual\, drop-in social hour. No RSVP required!
URL:https://ourcenterreno.org/event/new-coffee-hour-for-gnc-non-binary-siblings-to-connect/2026-04-17/
CATEGORIES:Event
ATTACH;FMTTYPE=image/png:https://ourcenterreno.org/wp-content/uploads/2026/02/Non-Binary-NV-Coffee-Hour-1.png
END:VEVENT
BEGIN:VEVENT
DTSTART;TZID=America/Los_Angeles:20260417T133000
DTEND;TZID=America/Los_Angeles:20260417T150000
DTSTAMP:20260423T015336
CREATED:20251114T213619Z
LAST-MODIFIED:20251114T213619Z
UID:10042941-1776432600-1776438000@ourcenterreno.org
SUMMARY:NBNV (Non-Binary Envy)
DESCRIPTION:A group where non-binary people can gather to hang out and support each other – coffee is optional.
URL:https://ourcenterreno.org/event/nbnv-non-binary-envy/2026-04-17/
CATEGORIES:Event
ATTACH;FMTTYPE=image/png:https://ourcenterreno.org/wp-content/uploads/2025/11/Non-Binary-NV_for_Wordpress.png
END:VEVENT
BEGIN:VEVENT
DTSTART;TZID=America/Los_Angeles:20260417T150000
DTEND;TZID=America/Los_Angeles:20260417T160000
DTSTAMP:20260423T015336
CREATED:20260206T141522Z
LAST-MODIFIED:20260206T142019Z
UID:10043592-1776438000-1776441600@ourcenterreno.org
SUMMARY:Sip Sisters: Women’s Coffee Social
DESCRIPTION:The perfect spot to meet\, chat\, and enjoy a warm cup of coffee. \nSip Sisters is a weekly gathering for all women-identifying folx in our community. Whether you’re looking to make new friends\, find support\, or just enjoy a cozy conversation\, Sip Sisters is the place to be! \nWhen: Every Friday \nTime: 3:00 PM – 4:00 PM \nWhere: Our Center \nWho: All women-identifying folx welcome!
URL:https://ourcenterreno.org/event/sip-sisters-womens-coffee-social/2026-04-17/
CATEGORIES:Event
ATTACH;FMTTYPE=image/png:https://ourcenterreno.org/wp-content/uploads/2026/02/Sip-Sisters-1.png
END:VEVENT
BEGIN:VEVENT
DTSTART;TZID=America/Los_Angeles:20260417T150000
DTEND;TZID=America/Los_Angeles:20260417T190000
DTSTAMP:20260423T015336
CREATED:20260206T140437Z
LAST-MODIFIED:20260206T140437Z
UID:10043539-1776438000-1776452400@ourcenterreno.org
SUMMARY:D&D: Chaos Crew (18+)
DESCRIPTION:Ready for some adventure? 🎲 Join us every Friday from 3–7 PM for 18+ D&D – Chaos! Grab your dice and get ready for a legendary start to your weekend. \nWhether you’re a seasoned Dungeon Master or a total beginner\, join us for our weekly 18+ D&D – Chaos sessions. This is a space for adults (18+) to connect\, roleplay\, and dive into a world of imagination and community. \nWhen: Every Friday \nTime: 3:00 PM – 7:00 PM \nAge: 18+ only \nWhere: Our Center \nAdventure awaits every Friday afternoon!
URL:https://ourcenterreno.org/event/dd-chaos-crew-18/2026-04-17/
CATEGORIES:Event
ATTACH;FMTTYPE=image/png:https://ourcenterreno.org/wp-content/uploads/2026/02/18-DD_-Chaos-Crew-1.png
END:VEVENT
BEGIN:VEVENT
DTSTART;TZID=America/Los_Angeles:20260417T163000
DTEND;TZID=America/Los_Angeles:20260417T173000
DTSTAMP:20260423T015336
CREATED:20260206T143307Z
LAST-MODIFIED:20260206T143715Z
UID:10043645-1776443400-1776447000@ourcenterreno.org
SUMMARY:SMART Recovery Group
DESCRIPTION:Discover the tools to change your life. \nSMART Recovery is a fresh approach to recovery. Join our weekly peer-led group to learn practical\, science-based tools for managing urges and building a balanced life. Whether you are recovering from addiction or looking to change harmful habits\, this is a safe\, supportive space for everyone. \nWhen: Every Friday \nTime: 4:30 PM – 5:30 PM \nWhere: Our Center \nAll are welcome to attend. No registration is required—just show up!
URL:https://ourcenterreno.org/event/smart-recovery-group/2026-04-17/
CATEGORIES:Event
ATTACH;FMTTYPE=image/png:https://ourcenterreno.org/wp-content/uploads/2026/02/SMART-Recovery-Group-1.png
END:VEVENT
END:VCALENDAR