BEGIN:VCALENDAR
VERSION:2.0
PRODID:-//ourcenter - ECPv6.15.19//NONSGML v1.0//EN
CALSCALE:GREGORIAN
METHOD:PUBLISH
X-WR-CALNAME:ourcenter
X-ORIGINAL-URL:https://ourcenterreno.org
X-WR-CALDESC:Events for ourcenter
REFRESH-INTERVAL;VALUE=DURATION:PT1H
X-Robots-Tag:noindex
X-PUBLISHED-TTL:PT1H
BEGIN:VTIMEZONE
TZID:UTC
BEGIN:STANDARD
TZOFFSETFROM:+0000
TZOFFSETTO:+0000
TZNAME:UTC
DTSTART:20250101T000000
END:STANDARD
END:VTIMEZONE
BEGIN:VEVENT
DTSTART;TZID=UTC:20260419T120000
DTEND;TZID=UTC:20260419T140000
DTSTAMP:20260419T195202
CREATED:20230119T035718Z
LAST-MODIFIED:20260210T144704Z
UID:10043841-1776600000-1776607200@ourcenterreno.org
SUMMARY:Rainbow Writers: Creative Writing Group
DESCRIPTION:Join us every third Sunday from 12-2pm in the Lounge. \nHave you always wanted to express your creativity through writing …Or are you already a writer? Either way\, come join us! We are creating an inclusive\, supportive space for Queer Folx to explore the craft of writing. Notebooks and writing utensils provided. All LGBTQAI+ writers and aspiring writers are welcome. \nNo previous writing experience or written work needed. Questions? Reach out: rainbow.writers@bearscratches.com
URL:https://ourcenterreno.org/event/rainbow-writers-creative-writing-group/2026-04-19/
LOCATION:Our Center\, 1745 S Wells Ave\, Reno\, NV\, 89502\, United States
CATEGORIES:Event
ATTACH;FMTTYPE=image/jpeg:https://ourcenterreno.org/wp-content/uploads/2023/01/24.jpg
END:VEVENT
BEGIN:VEVENT
DTSTART;TZID=UTC:20260419T133000
DTEND;TZID=UTC:20260419T150000
DTSTAMP:20260419T195202
CREATED:20230105T055505Z
LAST-MODIFIED:20260212T151802Z
UID:10043047-1776605400-1776610800@ourcenterreno.org
SUMMARY:The Questing Queers
DESCRIPTION:Come roll the dice and be a part of silly and exciting stories! We run many TableTop Role Playing Games (TTRPG) including but not limited to Dungeons and Dragons\, Daggerheart\, and Starfinder.\nJoin at any time with no experience required! Will teach to all who wish to learn.
URL:https://ourcenterreno.org/event/the-questing-queers/2026-04-19/
LOCATION:Our Center\, 1745 S Wells Ave\, Reno\, NV\, 89502\, United States
CATEGORIES:Event
ATTACH;FMTTYPE=image/png:https://ourcenterreno.org/wp-content/uploads/2023/01/18-DD_-Chaos-Crew-1.png
END:VEVENT
END:VCALENDAR