BEGIN:VCALENDAR
VERSION:2.0
PRODID:-//ourcenter - ECPv6.15.19//NONSGML v1.0//EN
CALSCALE:GREGORIAN
METHOD:PUBLISH
X-WR-CALNAME:ourcenter
X-ORIGINAL-URL:https://ourcenterreno.org
X-WR-CALDESC:Events for ourcenter
REFRESH-INTERVAL;VALUE=DURATION:PT1H
X-Robots-Tag:noindex
X-PUBLISHED-TTL:PT1H
BEGIN:VTIMEZONE
TZID:America/Los_Angeles
BEGIN:DAYLIGHT
TZOFFSETFROM:-0800
TZOFFSETTO:-0700
TZNAME:PDT
DTSTART:20250309T100000
END:DAYLIGHT
BEGIN:STANDARD
TZOFFSETFROM:-0700
TZOFFSETTO:-0800
TZNAME:PST
DTSTART:20251102T090000
END:STANDARD
BEGIN:DAYLIGHT
TZOFFSETFROM:-0800
TZOFFSETTO:-0700
TZNAME:PDT
DTSTART:20260308T100000
END:DAYLIGHT
BEGIN:STANDARD
TZOFFSETFROM:-0700
TZOFFSETTO:-0800
TZNAME:PST
DTSTART:20261101T090000
END:STANDARD
BEGIN:DAYLIGHT
TZOFFSETFROM:-0800
TZOFFSETTO:-0700
TZNAME:PDT
DTSTART:20270314T100000
END:DAYLIGHT
BEGIN:STANDARD
TZOFFSETFROM:-0700
TZOFFSETTO:-0800
TZNAME:PST
DTSTART:20271107T090000
END:STANDARD
END:VTIMEZONE
BEGIN:VEVENT
DTSTART;TZID=America/Los_Angeles:20260428T180000
DTEND;TZID=America/Los_Angeles:20260428T193000
DTSTAMP:20260425T123741
CREATED:20260310T132946Z
LAST-MODIFIED:20260310T133430Z
UID:10044071-1777399200-1777404600@ourcenterreno.org
SUMMARY:Special Event: LGBTQ+ Resilience Support Group
DESCRIPTION:Join our LGBTQ+ Resilience Support Group where we will be sharing stories\, exploring our identities\, and making community connections! \nThis group offers a safe and empowering space to navigate the unique challenges and triumphs of the LGBTQ+ experience. Come connect with others and build your resilience in a supportive environment. \nTime: 6:00 PM – 7:30 PM \nUpcoming Dates: March 3rd\, March 15th\, March 31st\, April 14th & April 28th \nAll are welcome. No prior registration is required—just bring yourself!
URL:https://ourcenterreno.org/event/special-event-lgbtq-resilience-support-group/2026-04-28/
CATEGORIES:Event
ATTACH;FMTTYPE=image/webp:https://ourcenterreno.org/wp-content/uploads/2026/03/LGBTQ-Resilience-Support-group-1.webp
END:VEVENT
END:VCALENDAR