BEGIN:VCALENDAR
VERSION:2.0
PRODID:-//ourcenter - ECPv6.15.19//NONSGML v1.0//EN
CALSCALE:GREGORIAN
METHOD:PUBLISH
X-WR-CALNAME:ourcenter
X-ORIGINAL-URL:https://ourcenterreno.org
X-WR-CALDESC:Events for ourcenter
REFRESH-INTERVAL;VALUE=DURATION:PT1H
X-Robots-Tag:noindex
X-PUBLISHED-TTL:PT1H
BEGIN:VTIMEZONE
TZID:America/Los_Angeles
BEGIN:DAYLIGHT
TZOFFSETFROM:-0800
TZOFFSETTO:-0700
TZNAME:PDT
DTSTART:20250309T100000
END:DAYLIGHT
BEGIN:STANDARD
TZOFFSETFROM:-0700
TZOFFSETTO:-0800
TZNAME:PST
DTSTART:20251102T090000
END:STANDARD
BEGIN:DAYLIGHT
TZOFFSETFROM:-0800
TZOFFSETTO:-0700
TZNAME:PDT
DTSTART:20260308T100000
END:DAYLIGHT
BEGIN:STANDARD
TZOFFSETFROM:-0700
TZOFFSETTO:-0800
TZNAME:PST
DTSTART:20261101T090000
END:STANDARD
BEGIN:DAYLIGHT
TZOFFSETFROM:-0800
TZOFFSETTO:-0700
TZNAME:PDT
DTSTART:20270314T100000
END:DAYLIGHT
BEGIN:STANDARD
TZOFFSETFROM:-0700
TZOFFSETTO:-0800
TZNAME:PST
DTSTART:20271107T090000
END:STANDARD
END:VTIMEZONE
BEGIN:VEVENT
DTSTART;TZID=America/Los_Angeles:20260427T160000
DTEND;TZID=America/Los_Angeles:20260427T170000
DTSTAMP:20260425T123601
CREATED:20260310T142919Z
LAST-MODIFIED:20260310T144809Z
UID:10044324-1777305600-1777309200@ourcenterreno.org
SUMMARY:CHA Group Therapy
DESCRIPTION:Professionally guided group therapy designed to help you build coping skills and find connection. \nCommunity Health Alliance is proud to offer professionally guided group therapy sessions in Reno designed to help you build coping skills\, find connection\, and strengthen your mental health in a supportive environment. \nWhen: Every Monday and Tuesday (Through May 2026) \nTime: 4:00 PM to 5:00 PM \nPartner: Community Health Alliance (CHA) \nThese sessions are led by health professionals to provide dedicated mental health support for our community.
URL:https://ourcenterreno.org/event/cha-group-therapy/2026-04-27/
CATEGORIES:Event
ATTACH;FMTTYPE=image/png:https://ourcenterreno.org/wp-content/uploads/2026/03/CHA-Group-Therapy-1.png
END:VEVENT
BEGIN:VEVENT
DTSTART;TZID=America/Los_Angeles:20260428T160000
DTEND;TZID=America/Los_Angeles:20260428T170000
DTSTAMP:20260425T123601
CREATED:20260310T142919Z
LAST-MODIFIED:20260310T144809Z
UID:10044352-1777392000-1777395600@ourcenterreno.org
SUMMARY:CHA Group Therapy
DESCRIPTION:Professionally guided group therapy designed to help you build coping skills and find connection. \nCommunity Health Alliance is proud to offer professionally guided group therapy sessions in Reno designed to help you build coping skills\, find connection\, and strengthen your mental health in a supportive environment. \nWhen: Every Monday and Tuesday (Through May 2026) \nTime: 4:00 PM to 5:00 PM \nPartner: Community Health Alliance (CHA) \nThese sessions are led by health professionals to provide dedicated mental health support for our community.
URL:https://ourcenterreno.org/event/cha-group-therapy/2026-04-28/
CATEGORIES:Event
ATTACH;FMTTYPE=image/png:https://ourcenterreno.org/wp-content/uploads/2026/03/CHA-Group-Therapy-1.png
END:VEVENT
BEGIN:VEVENT
DTSTART;TZID=America/Los_Angeles:20260504T160000
DTEND;TZID=America/Los_Angeles:20260504T170000
DTSTAMP:20260425T123601
CREATED:20260310T142919Z
LAST-MODIFIED:20260310T144809Z
UID:10044326-1777910400-1777914000@ourcenterreno.org
SUMMARY:CHA Group Therapy
DESCRIPTION:Professionally guided group therapy designed to help you build coping skills and find connection. \nCommunity Health Alliance is proud to offer professionally guided group therapy sessions in Reno designed to help you build coping skills\, find connection\, and strengthen your mental health in a supportive environment. \nWhen: Every Monday and Tuesday (Through May 2026) \nTime: 4:00 PM to 5:00 PM \nPartner: Community Health Alliance (CHA) \nThese sessions are led by health professionals to provide dedicated mental health support for our community.
URL:https://ourcenterreno.org/event/cha-group-therapy/2026-05-04/
CATEGORIES:Event
ATTACH;FMTTYPE=image/png:https://ourcenterreno.org/wp-content/uploads/2026/03/CHA-Group-Therapy-1.png
END:VEVENT
BEGIN:VEVENT
DTSTART;TZID=America/Los_Angeles:20260505T160000
DTEND;TZID=America/Los_Angeles:20260505T170000
DTSTAMP:20260425T123601
CREATED:20260310T142919Z
LAST-MODIFIED:20260310T144809Z
UID:10044353-1777996800-1778000400@ourcenterreno.org
SUMMARY:CHA Group Therapy
DESCRIPTION:Professionally guided group therapy designed to help you build coping skills and find connection. \nCommunity Health Alliance is proud to offer professionally guided group therapy sessions in Reno designed to help you build coping skills\, find connection\, and strengthen your mental health in a supportive environment. \nWhen: Every Monday and Tuesday (Through May 2026) \nTime: 4:00 PM to 5:00 PM \nPartner: Community Health Alliance (CHA) \nThese sessions are led by health professionals to provide dedicated mental health support for our community.
URL:https://ourcenterreno.org/event/cha-group-therapy/2026-05-05/
CATEGORIES:Event
ATTACH;FMTTYPE=image/png:https://ourcenterreno.org/wp-content/uploads/2026/03/CHA-Group-Therapy-1.png
END:VEVENT
BEGIN:VEVENT
DTSTART;TZID=America/Los_Angeles:20260511T160000
DTEND;TZID=America/Los_Angeles:20260511T170000
DTSTAMP:20260425T123601
CREATED:20260310T142919Z
LAST-MODIFIED:20260310T144809Z
UID:10044328-1778515200-1778518800@ourcenterreno.org
SUMMARY:CHA Group Therapy
DESCRIPTION:Professionally guided group therapy designed to help you build coping skills and find connection. \nCommunity Health Alliance is proud to offer professionally guided group therapy sessions in Reno designed to help you build coping skills\, find connection\, and strengthen your mental health in a supportive environment. \nWhen: Every Monday and Tuesday (Through May 2026) \nTime: 4:00 PM to 5:00 PM \nPartner: Community Health Alliance (CHA) \nThese sessions are led by health professionals to provide dedicated mental health support for our community.
URL:https://ourcenterreno.org/event/cha-group-therapy/2026-05-11/
CATEGORIES:Event
ATTACH;FMTTYPE=image/png:https://ourcenterreno.org/wp-content/uploads/2026/03/CHA-Group-Therapy-1.png
END:VEVENT
BEGIN:VEVENT
DTSTART;TZID=America/Los_Angeles:20260512T160000
DTEND;TZID=America/Los_Angeles:20260512T170000
DTSTAMP:20260425T123601
CREATED:20260310T142919Z
LAST-MODIFIED:20260310T144809Z
UID:10044354-1778601600-1778605200@ourcenterreno.org
SUMMARY:CHA Group Therapy
DESCRIPTION:Professionally guided group therapy designed to help you build coping skills and find connection. \nCommunity Health Alliance is proud to offer professionally guided group therapy sessions in Reno designed to help you build coping skills\, find connection\, and strengthen your mental health in a supportive environment. \nWhen: Every Monday and Tuesday (Through May 2026) \nTime: 4:00 PM to 5:00 PM \nPartner: Community Health Alliance (CHA) \nThese sessions are led by health professionals to provide dedicated mental health support for our community.
URL:https://ourcenterreno.org/event/cha-group-therapy/2026-05-12/
CATEGORIES:Event
ATTACH;FMTTYPE=image/png:https://ourcenterreno.org/wp-content/uploads/2026/03/CHA-Group-Therapy-1.png
END:VEVENT
BEGIN:VEVENT
DTSTART;TZID=America/Los_Angeles:20260518T160000
DTEND;TZID=America/Los_Angeles:20260518T170000
DTSTAMP:20260425T123601
CREATED:20260310T142919Z
LAST-MODIFIED:20260310T144809Z
UID:10044330-1779120000-1779123600@ourcenterreno.org
SUMMARY:CHA Group Therapy
DESCRIPTION:Professionally guided group therapy designed to help you build coping skills and find connection. \nCommunity Health Alliance is proud to offer professionally guided group therapy sessions in Reno designed to help you build coping skills\, find connection\, and strengthen your mental health in a supportive environment. \nWhen: Every Monday and Tuesday (Through May 2026) \nTime: 4:00 PM to 5:00 PM \nPartner: Community Health Alliance (CHA) \nThese sessions are led by health professionals to provide dedicated mental health support for our community.
URL:https://ourcenterreno.org/event/cha-group-therapy/2026-05-18/
CATEGORIES:Event
ATTACH;FMTTYPE=image/png:https://ourcenterreno.org/wp-content/uploads/2026/03/CHA-Group-Therapy-1.png
END:VEVENT
BEGIN:VEVENT
DTSTART;TZID=America/Los_Angeles:20260519T160000
DTEND;TZID=America/Los_Angeles:20260519T170000
DTSTAMP:20260425T123601
CREATED:20260310T142919Z
LAST-MODIFIED:20260310T144809Z
UID:10044355-1779206400-1779210000@ourcenterreno.org
SUMMARY:CHA Group Therapy
DESCRIPTION:Professionally guided group therapy designed to help you build coping skills and find connection. \nCommunity Health Alliance is proud to offer professionally guided group therapy sessions in Reno designed to help you build coping skills\, find connection\, and strengthen your mental health in a supportive environment. \nWhen: Every Monday and Tuesday (Through May 2026) \nTime: 4:00 PM to 5:00 PM \nPartner: Community Health Alliance (CHA) \nThese sessions are led by health professionals to provide dedicated mental health support for our community.
URL:https://ourcenterreno.org/event/cha-group-therapy/2026-05-19/
CATEGORIES:Event
ATTACH;FMTTYPE=image/png:https://ourcenterreno.org/wp-content/uploads/2026/03/CHA-Group-Therapy-1.png
END:VEVENT
BEGIN:VEVENT
DTSTART;TZID=America/Los_Angeles:20260525T160000
DTEND;TZID=America/Los_Angeles:20260525T170000
DTSTAMP:20260425T123601
CREATED:20260310T142919Z
LAST-MODIFIED:20260310T144809Z
UID:10044332-1779724800-1779728400@ourcenterreno.org
SUMMARY:CHA Group Therapy
DESCRIPTION:Professionally guided group therapy designed to help you build coping skills and find connection. \nCommunity Health Alliance is proud to offer professionally guided group therapy sessions in Reno designed to help you build coping skills\, find connection\, and strengthen your mental health in a supportive environment. \nWhen: Every Monday and Tuesday (Through May 2026) \nTime: 4:00 PM to 5:00 PM \nPartner: Community Health Alliance (CHA) \nThese sessions are led by health professionals to provide dedicated mental health support for our community.
URL:https://ourcenterreno.org/event/cha-group-therapy/2026-05-25/
CATEGORIES:Event
ATTACH;FMTTYPE=image/png:https://ourcenterreno.org/wp-content/uploads/2026/03/CHA-Group-Therapy-1.png
END:VEVENT
BEGIN:VEVENT
DTSTART;TZID=America/Los_Angeles:20260526T160000
DTEND;TZID=America/Los_Angeles:20260526T170000
DTSTAMP:20260425T123601
CREATED:20260310T142919Z
LAST-MODIFIED:20260310T144809Z
UID:10044356-1779811200-1779814800@ourcenterreno.org
SUMMARY:CHA Group Therapy
DESCRIPTION:Professionally guided group therapy designed to help you build coping skills and find connection. \nCommunity Health Alliance is proud to offer professionally guided group therapy sessions in Reno designed to help you build coping skills\, find connection\, and strengthen your mental health in a supportive environment. \nWhen: Every Monday and Tuesday (Through May 2026) \nTime: 4:00 PM to 5:00 PM \nPartner: Community Health Alliance (CHA) \nThese sessions are led by health professionals to provide dedicated mental health support for our community.
URL:https://ourcenterreno.org/event/cha-group-therapy/2026-05-26/
CATEGORIES:Event
ATTACH;FMTTYPE=image/png:https://ourcenterreno.org/wp-content/uploads/2026/03/CHA-Group-Therapy-1.png
END:VEVENT
BEGIN:VEVENT
DTSTART;TZID=America/Los_Angeles:20260601T160000
DTEND;TZID=America/Los_Angeles:20260601T170000
DTSTAMP:20260425T123601
CREATED:20260310T142919Z
LAST-MODIFIED:20260310T144809Z
UID:10044334-1780329600-1780333200@ourcenterreno.org
SUMMARY:CHA Group Therapy
DESCRIPTION:Professionally guided group therapy designed to help you build coping skills and find connection. \nCommunity Health Alliance is proud to offer professionally guided group therapy sessions in Reno designed to help you build coping skills\, find connection\, and strengthen your mental health in a supportive environment. \nWhen: Every Monday and Tuesday (Through May 2026) \nTime: 4:00 PM to 5:00 PM \nPartner: Community Health Alliance (CHA) \nThese sessions are led by health professionals to provide dedicated mental health support for our community.
URL:https://ourcenterreno.org/event/cha-group-therapy/2026-06-01/
CATEGORIES:Event
ATTACH;FMTTYPE=image/png:https://ourcenterreno.org/wp-content/uploads/2026/03/CHA-Group-Therapy-1.png
END:VEVENT
END:VCALENDAR