BEGIN:VCALENDAR
VERSION:2.0
PRODID:-//ourcenter - ECPv6.15.19//NONSGML v1.0//EN
CALSCALE:GREGORIAN
METHOD:PUBLISH
X-WR-CALNAME:ourcenter
X-ORIGINAL-URL:https://ourcenterreno.org
X-WR-CALDESC:Events for ourcenter
REFRESH-INTERVAL;VALUE=DURATION:PT1H
X-Robots-Tag:noindex
X-PUBLISHED-TTL:PT1H
BEGIN:VTIMEZONE
TZID:America/Los_Angeles
BEGIN:DAYLIGHT
TZOFFSETFROM:-0800
TZOFFSETTO:-0700
TZNAME:PDT
DTSTART:20250309T100000
END:DAYLIGHT
BEGIN:STANDARD
TZOFFSETFROM:-0700
TZOFFSETTO:-0800
TZNAME:PST
DTSTART:20251102T090000
END:STANDARD
BEGIN:DAYLIGHT
TZOFFSETFROM:-0800
TZOFFSETTO:-0700
TZNAME:PDT
DTSTART:20260308T100000
END:DAYLIGHT
BEGIN:STANDARD
TZOFFSETFROM:-0700
TZOFFSETTO:-0800
TZNAME:PST
DTSTART:20261101T090000
END:STANDARD
BEGIN:DAYLIGHT
TZOFFSETFROM:-0800
TZOFFSETTO:-0700
TZNAME:PDT
DTSTART:20270314T100000
END:DAYLIGHT
BEGIN:STANDARD
TZOFFSETFROM:-0700
TZOFFSETTO:-0800
TZNAME:PST
DTSTART:20271107T090000
END:STANDARD
END:VTIMEZONE
BEGIN:VEVENT
DTSTART;TZID=America/Los_Angeles:20260429T140000
DTEND;TZID=America/Los_Angeles:20260429T150000
DTSTAMP:20260425T123811
CREATED:20260310T162326Z
LAST-MODIFIED:20260310T162326Z
UID:10044682-1777471200-1777474800@ourcenterreno.org
SUMMARY:Senior Coffee Time
DESCRIPTION:Relaxed weekly social hour for seniors in our community. \nSenior Coffee Time is the perfect mid-week break. Join us for a casual hour of coffee\, tea\, and connection. Whether you want to catch up with old friends or meet new neighbors\, our doors are open for a cozy afternoon together. \nWhen: Every Wednesday (Through June 2026) \nTime: 2:00 PM to 3:00 PM \nWho: Seniors and older adults \n\nNo RSVP is needed. Just come as you are and enjoy a warm cup!
URL:https://ourcenterreno.org/event/senior-coffee-time/2026-04-29/
CATEGORIES:Event,Senior
ATTACH;FMTTYPE=image/webp:https://ourcenterreno.org/wp-content/uploads/2026/03/Senior-Coffee-Time.webp
END:VEVENT
BEGIN:VEVENT
DTSTART;TZID=America/Los_Angeles:20260506T140000
DTEND;TZID=America/Los_Angeles:20260506T150000
DTSTAMP:20260425T123811
CREATED:20260310T162326Z
LAST-MODIFIED:20260310T162326Z
UID:10044683-1778076000-1778079600@ourcenterreno.org
SUMMARY:Senior Coffee Time
DESCRIPTION:Relaxed weekly social hour for seniors in our community. \nSenior Coffee Time is the perfect mid-week break. Join us for a casual hour of coffee\, tea\, and connection. Whether you want to catch up with old friends or meet new neighbors\, our doors are open for a cozy afternoon together. \nWhen: Every Wednesday (Through June 2026) \nTime: 2:00 PM to 3:00 PM \nWho: Seniors and older adults \n\nNo RSVP is needed. Just come as you are and enjoy a warm cup!
URL:https://ourcenterreno.org/event/senior-coffee-time/2026-05-06/
CATEGORIES:Event,Senior
ATTACH;FMTTYPE=image/webp:https://ourcenterreno.org/wp-content/uploads/2026/03/Senior-Coffee-Time.webp
END:VEVENT
BEGIN:VEVENT
DTSTART;TZID=America/Los_Angeles:20260513T140000
DTEND;TZID=America/Los_Angeles:20260513T150000
DTSTAMP:20260425T123811
CREATED:20260310T162326Z
LAST-MODIFIED:20260310T162326Z
UID:10044684-1778680800-1778684400@ourcenterreno.org
SUMMARY:Senior Coffee Time
DESCRIPTION:Relaxed weekly social hour for seniors in our community. \nSenior Coffee Time is the perfect mid-week break. Join us for a casual hour of coffee\, tea\, and connection. Whether you want to catch up with old friends or meet new neighbors\, our doors are open for a cozy afternoon together. \nWhen: Every Wednesday (Through June 2026) \nTime: 2:00 PM to 3:00 PM \nWho: Seniors and older adults \n\nNo RSVP is needed. Just come as you are and enjoy a warm cup!
URL:https://ourcenterreno.org/event/senior-coffee-time/2026-05-13/
CATEGORIES:Event,Senior
ATTACH;FMTTYPE=image/webp:https://ourcenterreno.org/wp-content/uploads/2026/03/Senior-Coffee-Time.webp
END:VEVENT
BEGIN:VEVENT
DTSTART;TZID=America/Los_Angeles:20260520T140000
DTEND;TZID=America/Los_Angeles:20260520T150000
DTSTAMP:20260425T123811
CREATED:20260310T162326Z
LAST-MODIFIED:20260310T162326Z
UID:10044685-1779285600-1779289200@ourcenterreno.org
SUMMARY:Senior Coffee Time
DESCRIPTION:Relaxed weekly social hour for seniors in our community. \nSenior Coffee Time is the perfect mid-week break. Join us for a casual hour of coffee\, tea\, and connection. Whether you want to catch up with old friends or meet new neighbors\, our doors are open for a cozy afternoon together. \nWhen: Every Wednesday (Through June 2026) \nTime: 2:00 PM to 3:00 PM \nWho: Seniors and older adults \n\nNo RSVP is needed. Just come as you are and enjoy a warm cup!
URL:https://ourcenterreno.org/event/senior-coffee-time/2026-05-20/
CATEGORIES:Event,Senior
ATTACH;FMTTYPE=image/webp:https://ourcenterreno.org/wp-content/uploads/2026/03/Senior-Coffee-Time.webp
END:VEVENT
BEGIN:VEVENT
DTSTART;TZID=America/Los_Angeles:20260527T140000
DTEND;TZID=America/Los_Angeles:20260527T150000
DTSTAMP:20260425T123811
CREATED:20260310T162326Z
LAST-MODIFIED:20260310T162326Z
UID:10044686-1779890400-1779894000@ourcenterreno.org
SUMMARY:Senior Coffee Time
DESCRIPTION:Relaxed weekly social hour for seniors in our community. \nSenior Coffee Time is the perfect mid-week break. Join us for a casual hour of coffee\, tea\, and connection. Whether you want to catch up with old friends or meet new neighbors\, our doors are open for a cozy afternoon together. \nWhen: Every Wednesday (Through June 2026) \nTime: 2:00 PM to 3:00 PM \nWho: Seniors and older adults \n\nNo RSVP is needed. Just come as you are and enjoy a warm cup!
URL:https://ourcenterreno.org/event/senior-coffee-time/2026-05-27/
CATEGORIES:Event,Senior
ATTACH;FMTTYPE=image/webp:https://ourcenterreno.org/wp-content/uploads/2026/03/Senior-Coffee-Time.webp
END:VEVENT
BEGIN:VEVENT
DTSTART;TZID=America/Los_Angeles:20260603T140000
DTEND;TZID=America/Los_Angeles:20260603T150000
DTSTAMP:20260425T123811
CREATED:20260310T162326Z
LAST-MODIFIED:20260310T162326Z
UID:10044687-1780495200-1780498800@ourcenterreno.org
SUMMARY:Senior Coffee Time
DESCRIPTION:Relaxed weekly social hour for seniors in our community. \nSenior Coffee Time is the perfect mid-week break. Join us for a casual hour of coffee\, tea\, and connection. Whether you want to catch up with old friends or meet new neighbors\, our doors are open for a cozy afternoon together. \nWhen: Every Wednesday (Through June 2026) \nTime: 2:00 PM to 3:00 PM \nWho: Seniors and older adults \n\nNo RSVP is needed. Just come as you are and enjoy a warm cup!
URL:https://ourcenterreno.org/event/senior-coffee-time/2026-06-03/
CATEGORIES:Event,Senior
ATTACH;FMTTYPE=image/webp:https://ourcenterreno.org/wp-content/uploads/2026/03/Senior-Coffee-Time.webp
END:VEVENT
BEGIN:VEVENT
DTSTART;TZID=America/Los_Angeles:20260610T140000
DTEND;TZID=America/Los_Angeles:20260610T150000
DTSTAMP:20260425T123811
CREATED:20260310T162326Z
LAST-MODIFIED:20260310T162326Z
UID:10044688-1781100000-1781103600@ourcenterreno.org
SUMMARY:Senior Coffee Time
DESCRIPTION:Relaxed weekly social hour for seniors in our community. \nSenior Coffee Time is the perfect mid-week break. Join us for a casual hour of coffee\, tea\, and connection. Whether you want to catch up with old friends or meet new neighbors\, our doors are open for a cozy afternoon together. \nWhen: Every Wednesday (Through June 2026) \nTime: 2:00 PM to 3:00 PM \nWho: Seniors and older adults \n\nNo RSVP is needed. Just come as you are and enjoy a warm cup!
URL:https://ourcenterreno.org/event/senior-coffee-time/2026-06-10/
CATEGORIES:Event,Senior
ATTACH;FMTTYPE=image/webp:https://ourcenterreno.org/wp-content/uploads/2026/03/Senior-Coffee-Time.webp
END:VEVENT
BEGIN:VEVENT
DTSTART;TZID=America/Los_Angeles:20260617T140000
DTEND;TZID=America/Los_Angeles:20260617T150000
DTSTAMP:20260425T123811
CREATED:20260310T162326Z
LAST-MODIFIED:20260310T162326Z
UID:10044689-1781704800-1781708400@ourcenterreno.org
SUMMARY:Senior Coffee Time
DESCRIPTION:Relaxed weekly social hour for seniors in our community. \nSenior Coffee Time is the perfect mid-week break. Join us for a casual hour of coffee\, tea\, and connection. Whether you want to catch up with old friends or meet new neighbors\, our doors are open for a cozy afternoon together. \nWhen: Every Wednesday (Through June 2026) \nTime: 2:00 PM to 3:00 PM \nWho: Seniors and older adults \n\nNo RSVP is needed. Just come as you are and enjoy a warm cup!
URL:https://ourcenterreno.org/event/senior-coffee-time/2026-06-17/
CATEGORIES:Event,Senior
ATTACH;FMTTYPE=image/webp:https://ourcenterreno.org/wp-content/uploads/2026/03/Senior-Coffee-Time.webp
END:VEVENT
BEGIN:VEVENT
DTSTART;TZID=America/Los_Angeles:20260624T140000
DTEND;TZID=America/Los_Angeles:20260624T150000
DTSTAMP:20260425T123811
CREATED:20260310T162326Z
LAST-MODIFIED:20260310T162326Z
UID:10044690-1782309600-1782313200@ourcenterreno.org
SUMMARY:Senior Coffee Time
DESCRIPTION:Relaxed weekly social hour for seniors in our community. \nSenior Coffee Time is the perfect mid-week break. Join us for a casual hour of coffee\, tea\, and connection. Whether you want to catch up with old friends or meet new neighbors\, our doors are open for a cozy afternoon together. \nWhen: Every Wednesday (Through June 2026) \nTime: 2:00 PM to 3:00 PM \nWho: Seniors and older adults \n\nNo RSVP is needed. Just come as you are and enjoy a warm cup!
URL:https://ourcenterreno.org/event/senior-coffee-time/2026-06-24/
CATEGORIES:Event,Senior
ATTACH;FMTTYPE=image/webp:https://ourcenterreno.org/wp-content/uploads/2026/03/Senior-Coffee-Time.webp
END:VEVENT
BEGIN:VEVENT
DTSTART;TZID=America/Los_Angeles:20260701T140000
DTEND;TZID=America/Los_Angeles:20260701T150000
DTSTAMP:20260425T123811
CREATED:20260310T162326Z
LAST-MODIFIED:20260310T162326Z
UID:10044691-1782914400-1782918000@ourcenterreno.org
SUMMARY:Senior Coffee Time
DESCRIPTION:Relaxed weekly social hour for seniors in our community. \nSenior Coffee Time is the perfect mid-week break. Join us for a casual hour of coffee\, tea\, and connection. Whether you want to catch up with old friends or meet new neighbors\, our doors are open for a cozy afternoon together. \nWhen: Every Wednesday (Through June 2026) \nTime: 2:00 PM to 3:00 PM \nWho: Seniors and older adults \n\nNo RSVP is needed. Just come as you are and enjoy a warm cup!
URL:https://ourcenterreno.org/event/senior-coffee-time/2026-07-01/
CATEGORIES:Event,Senior
ATTACH;FMTTYPE=image/webp:https://ourcenterreno.org/wp-content/uploads/2026/03/Senior-Coffee-Time.webp
END:VEVENT
END:VCALENDAR