BEGIN:VCALENDAR
VERSION:2.0
PRODID:-//ourcenter - ECPv6.15.19//NONSGML v1.0//EN
CALSCALE:GREGORIAN
METHOD:PUBLISH
X-WR-CALNAME:ourcenter
X-ORIGINAL-URL:https://ourcenterreno.org
X-WR-CALDESC:Events for ourcenter
REFRESH-INTERVAL;VALUE=DURATION:PT1H
X-Robots-Tag:noindex
X-PUBLISHED-TTL:PT1H
BEGIN:VTIMEZONE
TZID:America/Los_Angeles
BEGIN:DAYLIGHT
TZOFFSETFROM:-0800
TZOFFSETTO:-0700
TZNAME:PDT
DTSTART:20250309T100000
END:DAYLIGHT
BEGIN:STANDARD
TZOFFSETFROM:-0700
TZOFFSETTO:-0800
TZNAME:PST
DTSTART:20251102T090000
END:STANDARD
BEGIN:DAYLIGHT
TZOFFSETFROM:-0800
TZOFFSETTO:-0700
TZNAME:PDT
DTSTART:20260308T100000
END:DAYLIGHT
BEGIN:STANDARD
TZOFFSETFROM:-0700
TZOFFSETTO:-0800
TZNAME:PST
DTSTART:20261101T090000
END:STANDARD
BEGIN:DAYLIGHT
TZOFFSETFROM:-0800
TZOFFSETTO:-0700
TZNAME:PDT
DTSTART:20270314T100000
END:DAYLIGHT
BEGIN:STANDARD
TZOFFSETFROM:-0700
TZOFFSETTO:-0800
TZNAME:PST
DTSTART:20271107T090000
END:STANDARD
END:VTIMEZONE
BEGIN:VEVENT
DTSTART;TZID=America/Los_Angeles:20260429T183000
DTEND;TZID=America/Los_Angeles:20260429T193000
DTSTAMP:20260425T090912
CREATED:20260310T163209Z
LAST-MODIFIED:20260310T163454Z
UID:10044741-1777487400-1777491000@ourcenterreno.org
SUMMARY:Out & Sober (AA) Support Group
DESCRIPTION:Recovery is a process\, and this LGBTQIA2s+ welcoming meeting is here for support. Out & Sober provides a safe\, anonymous environment for individuals to share their experiences\, strength\, and hope with one another while following the 12-step tradition. \nWhen: Every Wednesday \nTime: 6:30 PM to 7:30 PM \nFocus: Alcoholics Anonymous (AA) \nAll members of the LGBTQIA2s+ community and allies in recovery are welcome to attend.
URL:https://ourcenterreno.org/event/out-sober-aa-support-group/2026-04-29/
CATEGORIES:Event
ATTACH;FMTTYPE=image/webp:https://ourcenterreno.org/wp-content/uploads/2026/03/Out-Sober-AA-Support-Group.webp
END:VEVENT
BEGIN:VEVENT
DTSTART;TZID=America/Los_Angeles:20260506T183000
DTEND;TZID=America/Los_Angeles:20260506T193000
DTSTAMP:20260425T090912
CREATED:20260310T163209Z
LAST-MODIFIED:20260310T163454Z
UID:10044742-1778092200-1778095800@ourcenterreno.org
SUMMARY:Out & Sober (AA) Support Group
DESCRIPTION:Recovery is a process\, and this LGBTQIA2s+ welcoming meeting is here for support. Out & Sober provides a safe\, anonymous environment for individuals to share their experiences\, strength\, and hope with one another while following the 12-step tradition. \nWhen: Every Wednesday \nTime: 6:30 PM to 7:30 PM \nFocus: Alcoholics Anonymous (AA) \nAll members of the LGBTQIA2s+ community and allies in recovery are welcome to attend.
URL:https://ourcenterreno.org/event/out-sober-aa-support-group/2026-05-06/
CATEGORIES:Event
ATTACH;FMTTYPE=image/webp:https://ourcenterreno.org/wp-content/uploads/2026/03/Out-Sober-AA-Support-Group.webp
END:VEVENT
BEGIN:VEVENT
DTSTART;TZID=America/Los_Angeles:20260513T183000
DTEND;TZID=America/Los_Angeles:20260513T193000
DTSTAMP:20260425T090912
CREATED:20260310T163209Z
LAST-MODIFIED:20260310T163454Z
UID:10044743-1778697000-1778700600@ourcenterreno.org
SUMMARY:Out & Sober (AA) Support Group
DESCRIPTION:Recovery is a process\, and this LGBTQIA2s+ welcoming meeting is here for support. Out & Sober provides a safe\, anonymous environment for individuals to share their experiences\, strength\, and hope with one another while following the 12-step tradition. \nWhen: Every Wednesday \nTime: 6:30 PM to 7:30 PM \nFocus: Alcoholics Anonymous (AA) \nAll members of the LGBTQIA2s+ community and allies in recovery are welcome to attend.
URL:https://ourcenterreno.org/event/out-sober-aa-support-group/2026-05-13/
CATEGORIES:Event
ATTACH;FMTTYPE=image/webp:https://ourcenterreno.org/wp-content/uploads/2026/03/Out-Sober-AA-Support-Group.webp
END:VEVENT
BEGIN:VEVENT
DTSTART;TZID=America/Los_Angeles:20260520T183000
DTEND;TZID=America/Los_Angeles:20260520T193000
DTSTAMP:20260425T090912
CREATED:20260310T163209Z
LAST-MODIFIED:20260310T163454Z
UID:10044744-1779301800-1779305400@ourcenterreno.org
SUMMARY:Out & Sober (AA) Support Group
DESCRIPTION:Recovery is a process\, and this LGBTQIA2s+ welcoming meeting is here for support. Out & Sober provides a safe\, anonymous environment for individuals to share their experiences\, strength\, and hope with one another while following the 12-step tradition. \nWhen: Every Wednesday \nTime: 6:30 PM to 7:30 PM \nFocus: Alcoholics Anonymous (AA) \nAll members of the LGBTQIA2s+ community and allies in recovery are welcome to attend.
URL:https://ourcenterreno.org/event/out-sober-aa-support-group/2026-05-20/
CATEGORIES:Event
ATTACH;FMTTYPE=image/webp:https://ourcenterreno.org/wp-content/uploads/2026/03/Out-Sober-AA-Support-Group.webp
END:VEVENT
BEGIN:VEVENT
DTSTART;TZID=America/Los_Angeles:20260527T183000
DTEND;TZID=America/Los_Angeles:20260527T193000
DTSTAMP:20260425T090912
CREATED:20260310T163209Z
LAST-MODIFIED:20260310T163454Z
UID:10044745-1779906600-1779910200@ourcenterreno.org
SUMMARY:Out & Sober (AA) Support Group
DESCRIPTION:Recovery is a process\, and this LGBTQIA2s+ welcoming meeting is here for support. Out & Sober provides a safe\, anonymous environment for individuals to share their experiences\, strength\, and hope with one another while following the 12-step tradition. \nWhen: Every Wednesday \nTime: 6:30 PM to 7:30 PM \nFocus: Alcoholics Anonymous (AA) \nAll members of the LGBTQIA2s+ community and allies in recovery are welcome to attend.
URL:https://ourcenterreno.org/event/out-sober-aa-support-group/2026-05-27/
CATEGORIES:Event
ATTACH;FMTTYPE=image/webp:https://ourcenterreno.org/wp-content/uploads/2026/03/Out-Sober-AA-Support-Group.webp
END:VEVENT
BEGIN:VEVENT
DTSTART;TZID=America/Los_Angeles:20260603T183000
DTEND;TZID=America/Los_Angeles:20260603T193000
DTSTAMP:20260425T090912
CREATED:20260310T163209Z
LAST-MODIFIED:20260310T163454Z
UID:10044746-1780511400-1780515000@ourcenterreno.org
SUMMARY:Out & Sober (AA) Support Group
DESCRIPTION:Recovery is a process\, and this LGBTQIA2s+ welcoming meeting is here for support. Out & Sober provides a safe\, anonymous environment for individuals to share their experiences\, strength\, and hope with one another while following the 12-step tradition. \nWhen: Every Wednesday \nTime: 6:30 PM to 7:30 PM \nFocus: Alcoholics Anonymous (AA) \nAll members of the LGBTQIA2s+ community and allies in recovery are welcome to attend.
URL:https://ourcenterreno.org/event/out-sober-aa-support-group/2026-06-03/
CATEGORIES:Event
ATTACH;FMTTYPE=image/webp:https://ourcenterreno.org/wp-content/uploads/2026/03/Out-Sober-AA-Support-Group.webp
END:VEVENT
BEGIN:VEVENT
DTSTART;TZID=America/Los_Angeles:20260610T183000
DTEND;TZID=America/Los_Angeles:20260610T193000
DTSTAMP:20260425T090912
CREATED:20260310T163209Z
LAST-MODIFIED:20260310T163454Z
UID:10044747-1781116200-1781119800@ourcenterreno.org
SUMMARY:Out & Sober (AA) Support Group
DESCRIPTION:Recovery is a process\, and this LGBTQIA2s+ welcoming meeting is here for support. Out & Sober provides a safe\, anonymous environment for individuals to share their experiences\, strength\, and hope with one another while following the 12-step tradition. \nWhen: Every Wednesday \nTime: 6:30 PM to 7:30 PM \nFocus: Alcoholics Anonymous (AA) \nAll members of the LGBTQIA2s+ community and allies in recovery are welcome to attend.
URL:https://ourcenterreno.org/event/out-sober-aa-support-group/2026-06-10/
CATEGORIES:Event
ATTACH;FMTTYPE=image/webp:https://ourcenterreno.org/wp-content/uploads/2026/03/Out-Sober-AA-Support-Group.webp
END:VEVENT
BEGIN:VEVENT
DTSTART;TZID=America/Los_Angeles:20260617T183000
DTEND;TZID=America/Los_Angeles:20260617T193000
DTSTAMP:20260425T090912
CREATED:20260310T163209Z
LAST-MODIFIED:20260310T163454Z
UID:10044748-1781721000-1781724600@ourcenterreno.org
SUMMARY:Out & Sober (AA) Support Group
DESCRIPTION:Recovery is a process\, and this LGBTQIA2s+ welcoming meeting is here for support. Out & Sober provides a safe\, anonymous environment for individuals to share their experiences\, strength\, and hope with one another while following the 12-step tradition. \nWhen: Every Wednesday \nTime: 6:30 PM to 7:30 PM \nFocus: Alcoholics Anonymous (AA) \nAll members of the LGBTQIA2s+ community and allies in recovery are welcome to attend.
URL:https://ourcenterreno.org/event/out-sober-aa-support-group/2026-06-17/
CATEGORIES:Event
ATTACH;FMTTYPE=image/webp:https://ourcenterreno.org/wp-content/uploads/2026/03/Out-Sober-AA-Support-Group.webp
END:VEVENT
BEGIN:VEVENT
DTSTART;TZID=America/Los_Angeles:20260624T183000
DTEND;TZID=America/Los_Angeles:20260624T193000
DTSTAMP:20260425T090912
CREATED:20260310T163209Z
LAST-MODIFIED:20260310T163454Z
UID:10044749-1782325800-1782329400@ourcenterreno.org
SUMMARY:Out & Sober (AA) Support Group
DESCRIPTION:Recovery is a process\, and this LGBTQIA2s+ welcoming meeting is here for support. Out & Sober provides a safe\, anonymous environment for individuals to share their experiences\, strength\, and hope with one another while following the 12-step tradition. \nWhen: Every Wednesday \nTime: 6:30 PM to 7:30 PM \nFocus: Alcoholics Anonymous (AA) \nAll members of the LGBTQIA2s+ community and allies in recovery are welcome to attend.
URL:https://ourcenterreno.org/event/out-sober-aa-support-group/2026-06-24/
CATEGORIES:Event
ATTACH;FMTTYPE=image/webp:https://ourcenterreno.org/wp-content/uploads/2026/03/Out-Sober-AA-Support-Group.webp
END:VEVENT
BEGIN:VEVENT
DTSTART;TZID=America/Los_Angeles:20260701T183000
DTEND;TZID=America/Los_Angeles:20260701T193000
DTSTAMP:20260425T090912
CREATED:20260310T163209Z
LAST-MODIFIED:20260310T163454Z
UID:10044750-1782930600-1782934200@ourcenterreno.org
SUMMARY:Out & Sober (AA) Support Group
DESCRIPTION:Recovery is a process\, and this LGBTQIA2s+ welcoming meeting is here for support. Out & Sober provides a safe\, anonymous environment for individuals to share their experiences\, strength\, and hope with one another while following the 12-step tradition. \nWhen: Every Wednesday \nTime: 6:30 PM to 7:30 PM \nFocus: Alcoholics Anonymous (AA) \nAll members of the LGBTQIA2s+ community and allies in recovery are welcome to attend.
URL:https://ourcenterreno.org/event/out-sober-aa-support-group/2026-07-01/
CATEGORIES:Event
ATTACH;FMTTYPE=image/webp:https://ourcenterreno.org/wp-content/uploads/2026/03/Out-Sober-AA-Support-Group.webp
END:VEVENT
BEGIN:VEVENT
DTSTART;TZID=America/Los_Angeles:20260708T183000
DTEND;TZID=America/Los_Angeles:20260708T193000
DTSTAMP:20260425T090912
CREATED:20260310T163209Z
LAST-MODIFIED:20260310T163454Z
UID:10044751-1783535400-1783539000@ourcenterreno.org
SUMMARY:Out & Sober (AA) Support Group
DESCRIPTION:Recovery is a process\, and this LGBTQIA2s+ welcoming meeting is here for support. Out & Sober provides a safe\, anonymous environment for individuals to share their experiences\, strength\, and hope with one another while following the 12-step tradition. \nWhen: Every Wednesday \nTime: 6:30 PM to 7:30 PM \nFocus: Alcoholics Anonymous (AA) \nAll members of the LGBTQIA2s+ community and allies in recovery are welcome to attend.
URL:https://ourcenterreno.org/event/out-sober-aa-support-group/2026-07-08/
CATEGORIES:Event
ATTACH;FMTTYPE=image/webp:https://ourcenterreno.org/wp-content/uploads/2026/03/Out-Sober-AA-Support-Group.webp
END:VEVENT
BEGIN:VEVENT
DTSTART;TZID=America/Los_Angeles:20260715T183000
DTEND;TZID=America/Los_Angeles:20260715T193000
DTSTAMP:20260425T090912
CREATED:20260310T163209Z
LAST-MODIFIED:20260310T163454Z
UID:10044752-1784140200-1784143800@ourcenterreno.org
SUMMARY:Out & Sober (AA) Support Group
DESCRIPTION:Recovery is a process\, and this LGBTQIA2s+ welcoming meeting is here for support. Out & Sober provides a safe\, anonymous environment for individuals to share their experiences\, strength\, and hope with one another while following the 12-step tradition. \nWhen: Every Wednesday \nTime: 6:30 PM to 7:30 PM \nFocus: Alcoholics Anonymous (AA) \nAll members of the LGBTQIA2s+ community and allies in recovery are welcome to attend.
URL:https://ourcenterreno.org/event/out-sober-aa-support-group/2026-07-15/
CATEGORIES:Event
ATTACH;FMTTYPE=image/webp:https://ourcenterreno.org/wp-content/uploads/2026/03/Out-Sober-AA-Support-Group.webp
END:VEVENT
BEGIN:VEVENT
DTSTART;TZID=America/Los_Angeles:20260722T183000
DTEND;TZID=America/Los_Angeles:20260722T193000
DTSTAMP:20260425T090912
CREATED:20260310T163209Z
LAST-MODIFIED:20260310T163454Z
UID:10044753-1784745000-1784748600@ourcenterreno.org
SUMMARY:Out & Sober (AA) Support Group
DESCRIPTION:Recovery is a process\, and this LGBTQIA2s+ welcoming meeting is here for support. Out & Sober provides a safe\, anonymous environment for individuals to share their experiences\, strength\, and hope with one another while following the 12-step tradition. \nWhen: Every Wednesday \nTime: 6:30 PM to 7:30 PM \nFocus: Alcoholics Anonymous (AA) \nAll members of the LGBTQIA2s+ community and allies in recovery are welcome to attend.
URL:https://ourcenterreno.org/event/out-sober-aa-support-group/2026-07-22/
CATEGORIES:Event
ATTACH;FMTTYPE=image/webp:https://ourcenterreno.org/wp-content/uploads/2026/03/Out-Sober-AA-Support-Group.webp
END:VEVENT
BEGIN:VEVENT
DTSTART;TZID=America/Los_Angeles:20260729T183000
DTEND;TZID=America/Los_Angeles:20260729T193000
DTSTAMP:20260425T090912
CREATED:20260310T163209Z
LAST-MODIFIED:20260310T163454Z
UID:10044754-1785349800-1785353400@ourcenterreno.org
SUMMARY:Out & Sober (AA) Support Group
DESCRIPTION:Recovery is a process\, and this LGBTQIA2s+ welcoming meeting is here for support. Out & Sober provides a safe\, anonymous environment for individuals to share their experiences\, strength\, and hope with one another while following the 12-step tradition. \nWhen: Every Wednesday \nTime: 6:30 PM to 7:30 PM \nFocus: Alcoholics Anonymous (AA) \nAll members of the LGBTQIA2s+ community and allies in recovery are welcome to attend.
URL:https://ourcenterreno.org/event/out-sober-aa-support-group/2026-07-29/
CATEGORIES:Event
ATTACH;FMTTYPE=image/webp:https://ourcenterreno.org/wp-content/uploads/2026/03/Out-Sober-AA-Support-Group.webp
END:VEVENT
BEGIN:VEVENT
DTSTART;TZID=America/Los_Angeles:20260805T183000
DTEND;TZID=America/Los_Angeles:20260805T193000
DTSTAMP:20260425T090912
CREATED:20260310T163209Z
LAST-MODIFIED:20260310T163454Z
UID:10044755-1785954600-1785958200@ourcenterreno.org
SUMMARY:Out & Sober (AA) Support Group
DESCRIPTION:Recovery is a process\, and this LGBTQIA2s+ welcoming meeting is here for support. Out & Sober provides a safe\, anonymous environment for individuals to share their experiences\, strength\, and hope with one another while following the 12-step tradition. \nWhen: Every Wednesday \nTime: 6:30 PM to 7:30 PM \nFocus: Alcoholics Anonymous (AA) \nAll members of the LGBTQIA2s+ community and allies in recovery are welcome to attend.
URL:https://ourcenterreno.org/event/out-sober-aa-support-group/2026-08-05/
CATEGORIES:Event
ATTACH;FMTTYPE=image/webp:https://ourcenterreno.org/wp-content/uploads/2026/03/Out-Sober-AA-Support-Group.webp
END:VEVENT
BEGIN:VEVENT
DTSTART;TZID=America/Los_Angeles:20260812T183000
DTEND;TZID=America/Los_Angeles:20260812T193000
DTSTAMP:20260425T090912
CREATED:20260310T163209Z
LAST-MODIFIED:20260310T163454Z
UID:10044756-1786559400-1786563000@ourcenterreno.org
SUMMARY:Out & Sober (AA) Support Group
DESCRIPTION:Recovery is a process\, and this LGBTQIA2s+ welcoming meeting is here for support. Out & Sober provides a safe\, anonymous environment for individuals to share their experiences\, strength\, and hope with one another while following the 12-step tradition. \nWhen: Every Wednesday \nTime: 6:30 PM to 7:30 PM \nFocus: Alcoholics Anonymous (AA) \nAll members of the LGBTQIA2s+ community and allies in recovery are welcome to attend.
URL:https://ourcenterreno.org/event/out-sober-aa-support-group/2026-08-12/
CATEGORIES:Event
ATTACH;FMTTYPE=image/webp:https://ourcenterreno.org/wp-content/uploads/2026/03/Out-Sober-AA-Support-Group.webp
END:VEVENT
BEGIN:VEVENT
DTSTART;TZID=America/Los_Angeles:20260819T183000
DTEND;TZID=America/Los_Angeles:20260819T193000
DTSTAMP:20260425T090912
CREATED:20260310T163209Z
LAST-MODIFIED:20260310T163454Z
UID:10044757-1787164200-1787167800@ourcenterreno.org
SUMMARY:Out & Sober (AA) Support Group
DESCRIPTION:Recovery is a process\, and this LGBTQIA2s+ welcoming meeting is here for support. Out & Sober provides a safe\, anonymous environment for individuals to share their experiences\, strength\, and hope with one another while following the 12-step tradition. \nWhen: Every Wednesday \nTime: 6:30 PM to 7:30 PM \nFocus: Alcoholics Anonymous (AA) \nAll members of the LGBTQIA2s+ community and allies in recovery are welcome to attend.
URL:https://ourcenterreno.org/event/out-sober-aa-support-group/2026-08-19/
CATEGORIES:Event
ATTACH;FMTTYPE=image/webp:https://ourcenterreno.org/wp-content/uploads/2026/03/Out-Sober-AA-Support-Group.webp
END:VEVENT
BEGIN:VEVENT
DTSTART;TZID=America/Los_Angeles:20260826T183000
DTEND;TZID=America/Los_Angeles:20260826T193000
DTSTAMP:20260425T090912
CREATED:20260310T163209Z
LAST-MODIFIED:20260310T163454Z
UID:10044758-1787769000-1787772600@ourcenterreno.org
SUMMARY:Out & Sober (AA) Support Group
DESCRIPTION:Recovery is a process\, and this LGBTQIA2s+ welcoming meeting is here for support. Out & Sober provides a safe\, anonymous environment for individuals to share their experiences\, strength\, and hope with one another while following the 12-step tradition. \nWhen: Every Wednesday \nTime: 6:30 PM to 7:30 PM \nFocus: Alcoholics Anonymous (AA) \nAll members of the LGBTQIA2s+ community and allies in recovery are welcome to attend.
URL:https://ourcenterreno.org/event/out-sober-aa-support-group/2026-08-26/
CATEGORIES:Event
ATTACH;FMTTYPE=image/webp:https://ourcenterreno.org/wp-content/uploads/2026/03/Out-Sober-AA-Support-Group.webp
END:VEVENT
BEGIN:VEVENT
DTSTART;TZID=America/Los_Angeles:20260902T183000
DTEND;TZID=America/Los_Angeles:20260902T193000
DTSTAMP:20260425T090912
CREATED:20260310T163209Z
LAST-MODIFIED:20260310T163454Z
UID:10044759-1788373800-1788377400@ourcenterreno.org
SUMMARY:Out & Sober (AA) Support Group
DESCRIPTION:Recovery is a process\, and this LGBTQIA2s+ welcoming meeting is here for support. Out & Sober provides a safe\, anonymous environment for individuals to share their experiences\, strength\, and hope with one another while following the 12-step tradition. \nWhen: Every Wednesday \nTime: 6:30 PM to 7:30 PM \nFocus: Alcoholics Anonymous (AA) \nAll members of the LGBTQIA2s+ community and allies in recovery are welcome to attend.
URL:https://ourcenterreno.org/event/out-sober-aa-support-group/2026-09-02/
CATEGORIES:Event
ATTACH;FMTTYPE=image/webp:https://ourcenterreno.org/wp-content/uploads/2026/03/Out-Sober-AA-Support-Group.webp
END:VEVENT
BEGIN:VEVENT
DTSTART;TZID=America/Los_Angeles:20260909T183000
DTEND;TZID=America/Los_Angeles:20260909T193000
DTSTAMP:20260425T090912
CREATED:20260310T163209Z
LAST-MODIFIED:20260310T163454Z
UID:10044760-1788978600-1788982200@ourcenterreno.org
SUMMARY:Out & Sober (AA) Support Group
DESCRIPTION:Recovery is a process\, and this LGBTQIA2s+ welcoming meeting is here for support. Out & Sober provides a safe\, anonymous environment for individuals to share their experiences\, strength\, and hope with one another while following the 12-step tradition. \nWhen: Every Wednesday \nTime: 6:30 PM to 7:30 PM \nFocus: Alcoholics Anonymous (AA) \nAll members of the LGBTQIA2s+ community and allies in recovery are welcome to attend.
URL:https://ourcenterreno.org/event/out-sober-aa-support-group/2026-09-09/
CATEGORIES:Event
ATTACH;FMTTYPE=image/webp:https://ourcenterreno.org/wp-content/uploads/2026/03/Out-Sober-AA-Support-Group.webp
END:VEVENT
BEGIN:VEVENT
DTSTART;TZID=America/Los_Angeles:20260916T183000
DTEND;TZID=America/Los_Angeles:20260916T193000
DTSTAMP:20260425T090912
CREATED:20260310T163209Z
LAST-MODIFIED:20260310T163454Z
UID:10044761-1789583400-1789587000@ourcenterreno.org
SUMMARY:Out & Sober (AA) Support Group
DESCRIPTION:Recovery is a process\, and this LGBTQIA2s+ welcoming meeting is here for support. Out & Sober provides a safe\, anonymous environment for individuals to share their experiences\, strength\, and hope with one another while following the 12-step tradition. \nWhen: Every Wednesday \nTime: 6:30 PM to 7:30 PM \nFocus: Alcoholics Anonymous (AA) \nAll members of the LGBTQIA2s+ community and allies in recovery are welcome to attend.
URL:https://ourcenterreno.org/event/out-sober-aa-support-group/2026-09-16/
CATEGORIES:Event
ATTACH;FMTTYPE=image/webp:https://ourcenterreno.org/wp-content/uploads/2026/03/Out-Sober-AA-Support-Group.webp
END:VEVENT
BEGIN:VEVENT
DTSTART;TZID=America/Los_Angeles:20260923T183000
DTEND;TZID=America/Los_Angeles:20260923T193000
DTSTAMP:20260425T090912
CREATED:20260310T163209Z
LAST-MODIFIED:20260310T163454Z
UID:10044762-1790188200-1790191800@ourcenterreno.org
SUMMARY:Out & Sober (AA) Support Group
DESCRIPTION:Recovery is a process\, and this LGBTQIA2s+ welcoming meeting is here for support. Out & Sober provides a safe\, anonymous environment for individuals to share their experiences\, strength\, and hope with one another while following the 12-step tradition. \nWhen: Every Wednesday \nTime: 6:30 PM to 7:30 PM \nFocus: Alcoholics Anonymous (AA) \nAll members of the LGBTQIA2s+ community and allies in recovery are welcome to attend.
URL:https://ourcenterreno.org/event/out-sober-aa-support-group/2026-09-23/
CATEGORIES:Event
ATTACH;FMTTYPE=image/webp:https://ourcenterreno.org/wp-content/uploads/2026/03/Out-Sober-AA-Support-Group.webp
END:VEVENT
BEGIN:VEVENT
DTSTART;TZID=America/Los_Angeles:20260930T183000
DTEND;TZID=America/Los_Angeles:20260930T193000
DTSTAMP:20260425T090912
CREATED:20260310T163209Z
LAST-MODIFIED:20260310T163454Z
UID:10044763-1790793000-1790796600@ourcenterreno.org
SUMMARY:Out & Sober (AA) Support Group
DESCRIPTION:Recovery is a process\, and this LGBTQIA2s+ welcoming meeting is here for support. Out & Sober provides a safe\, anonymous environment for individuals to share their experiences\, strength\, and hope with one another while following the 12-step tradition. \nWhen: Every Wednesday \nTime: 6:30 PM to 7:30 PM \nFocus: Alcoholics Anonymous (AA) \nAll members of the LGBTQIA2s+ community and allies in recovery are welcome to attend.
URL:https://ourcenterreno.org/event/out-sober-aa-support-group/2026-09-30/
CATEGORIES:Event
ATTACH;FMTTYPE=image/webp:https://ourcenterreno.org/wp-content/uploads/2026/03/Out-Sober-AA-Support-Group.webp
END:VEVENT
BEGIN:VEVENT
DTSTART;TZID=America/Los_Angeles:20261007T183000
DTEND;TZID=America/Los_Angeles:20261007T193000
DTSTAMP:20260425T090912
CREATED:20260310T163209Z
LAST-MODIFIED:20260310T163454Z
UID:10044764-1791397800-1791401400@ourcenterreno.org
SUMMARY:Out & Sober (AA) Support Group
DESCRIPTION:Recovery is a process\, and this LGBTQIA2s+ welcoming meeting is here for support. Out & Sober provides a safe\, anonymous environment for individuals to share their experiences\, strength\, and hope with one another while following the 12-step tradition. \nWhen: Every Wednesday \nTime: 6:30 PM to 7:30 PM \nFocus: Alcoholics Anonymous (AA) \nAll members of the LGBTQIA2s+ community and allies in recovery are welcome to attend.
URL:https://ourcenterreno.org/event/out-sober-aa-support-group/2026-10-07/
CATEGORIES:Event
ATTACH;FMTTYPE=image/webp:https://ourcenterreno.org/wp-content/uploads/2026/03/Out-Sober-AA-Support-Group.webp
END:VEVENT
BEGIN:VEVENT
DTSTART;TZID=America/Los_Angeles:20261014T183000
DTEND;TZID=America/Los_Angeles:20261014T193000
DTSTAMP:20260425T090912
CREATED:20260310T163209Z
LAST-MODIFIED:20260310T163454Z
UID:10044765-1792002600-1792006200@ourcenterreno.org
SUMMARY:Out & Sober (AA) Support Group
DESCRIPTION:Recovery is a process\, and this LGBTQIA2s+ welcoming meeting is here for support. Out & Sober provides a safe\, anonymous environment for individuals to share their experiences\, strength\, and hope with one another while following the 12-step tradition. \nWhen: Every Wednesday \nTime: 6:30 PM to 7:30 PM \nFocus: Alcoholics Anonymous (AA) \nAll members of the LGBTQIA2s+ community and allies in recovery are welcome to attend.
URL:https://ourcenterreno.org/event/out-sober-aa-support-group/2026-10-14/
CATEGORIES:Event
ATTACH;FMTTYPE=image/webp:https://ourcenterreno.org/wp-content/uploads/2026/03/Out-Sober-AA-Support-Group.webp
END:VEVENT
BEGIN:VEVENT
DTSTART;TZID=America/Los_Angeles:20261021T183000
DTEND;TZID=America/Los_Angeles:20261021T193000
DTSTAMP:20260425T090912
CREATED:20260310T163209Z
LAST-MODIFIED:20260310T163454Z
UID:10044766-1792607400-1792611000@ourcenterreno.org
SUMMARY:Out & Sober (AA) Support Group
DESCRIPTION:Recovery is a process\, and this LGBTQIA2s+ welcoming meeting is here for support. Out & Sober provides a safe\, anonymous environment for individuals to share their experiences\, strength\, and hope with one another while following the 12-step tradition. \nWhen: Every Wednesday \nTime: 6:30 PM to 7:30 PM \nFocus: Alcoholics Anonymous (AA) \nAll members of the LGBTQIA2s+ community and allies in recovery are welcome to attend.
URL:https://ourcenterreno.org/event/out-sober-aa-support-group/2026-10-21/
CATEGORIES:Event
ATTACH;FMTTYPE=image/webp:https://ourcenterreno.org/wp-content/uploads/2026/03/Out-Sober-AA-Support-Group.webp
END:VEVENT
BEGIN:VEVENT
DTSTART;TZID=America/Los_Angeles:20261028T183000
DTEND;TZID=America/Los_Angeles:20261028T193000
DTSTAMP:20260425T090912
CREATED:20260310T163209Z
LAST-MODIFIED:20260310T163454Z
UID:10044767-1793212200-1793215800@ourcenterreno.org
SUMMARY:Out & Sober (AA) Support Group
DESCRIPTION:Recovery is a process\, and this LGBTQIA2s+ welcoming meeting is here for support. Out & Sober provides a safe\, anonymous environment for individuals to share their experiences\, strength\, and hope with one another while following the 12-step tradition. \nWhen: Every Wednesday \nTime: 6:30 PM to 7:30 PM \nFocus: Alcoholics Anonymous (AA) \nAll members of the LGBTQIA2s+ community and allies in recovery are welcome to attend.
URL:https://ourcenterreno.org/event/out-sober-aa-support-group/2026-10-28/
CATEGORIES:Event
ATTACH;FMTTYPE=image/webp:https://ourcenterreno.org/wp-content/uploads/2026/03/Out-Sober-AA-Support-Group.webp
END:VEVENT
BEGIN:VEVENT
DTSTART;TZID=America/Los_Angeles:20261104T183000
DTEND;TZID=America/Los_Angeles:20261104T193000
DTSTAMP:20260425T090912
CREATED:20260310T163209Z
LAST-MODIFIED:20260310T163454Z
UID:10044768-1793817000-1793820600@ourcenterreno.org
SUMMARY:Out & Sober (AA) Support Group
DESCRIPTION:Recovery is a process\, and this LGBTQIA2s+ welcoming meeting is here for support. Out & Sober provides a safe\, anonymous environment for individuals to share their experiences\, strength\, and hope with one another while following the 12-step tradition. \nWhen: Every Wednesday \nTime: 6:30 PM to 7:30 PM \nFocus: Alcoholics Anonymous (AA) \nAll members of the LGBTQIA2s+ community and allies in recovery are welcome to attend.
URL:https://ourcenterreno.org/event/out-sober-aa-support-group/2026-11-04/
CATEGORIES:Event
ATTACH;FMTTYPE=image/webp:https://ourcenterreno.org/wp-content/uploads/2026/03/Out-Sober-AA-Support-Group.webp
END:VEVENT
BEGIN:VEVENT
DTSTART;TZID=America/Los_Angeles:20261111T183000
DTEND;TZID=America/Los_Angeles:20261111T193000
DTSTAMP:20260425T090912
CREATED:20260310T163209Z
LAST-MODIFIED:20260310T163454Z
UID:10044769-1794421800-1794425400@ourcenterreno.org
SUMMARY:Out & Sober (AA) Support Group
DESCRIPTION:Recovery is a process\, and this LGBTQIA2s+ welcoming meeting is here for support. Out & Sober provides a safe\, anonymous environment for individuals to share their experiences\, strength\, and hope with one another while following the 12-step tradition. \nWhen: Every Wednesday \nTime: 6:30 PM to 7:30 PM \nFocus: Alcoholics Anonymous (AA) \nAll members of the LGBTQIA2s+ community and allies in recovery are welcome to attend.
URL:https://ourcenterreno.org/event/out-sober-aa-support-group/2026-11-11/
CATEGORIES:Event
ATTACH;FMTTYPE=image/webp:https://ourcenterreno.org/wp-content/uploads/2026/03/Out-Sober-AA-Support-Group.webp
END:VEVENT
BEGIN:VEVENT
DTSTART;TZID=America/Los_Angeles:20261118T183000
DTEND;TZID=America/Los_Angeles:20261118T193000
DTSTAMP:20260425T090912
CREATED:20260310T163209Z
LAST-MODIFIED:20260310T163454Z
UID:10044770-1795026600-1795030200@ourcenterreno.org
SUMMARY:Out & Sober (AA) Support Group
DESCRIPTION:Recovery is a process\, and this LGBTQIA2s+ welcoming meeting is here for support. Out & Sober provides a safe\, anonymous environment for individuals to share their experiences\, strength\, and hope with one another while following the 12-step tradition. \nWhen: Every Wednesday \nTime: 6:30 PM to 7:30 PM \nFocus: Alcoholics Anonymous (AA) \nAll members of the LGBTQIA2s+ community and allies in recovery are welcome to attend.
URL:https://ourcenterreno.org/event/out-sober-aa-support-group/2026-11-18/
CATEGORIES:Event
ATTACH;FMTTYPE=image/webp:https://ourcenterreno.org/wp-content/uploads/2026/03/Out-Sober-AA-Support-Group.webp
END:VEVENT
END:VCALENDAR